BEGIN:VCALENDAR
VERSION:2.0
PRODID:-//ABRH-SP - ECPv6.15.20//NONSGML v1.0//EN
CALSCALE:GREGORIAN
METHOD:PUBLISH
X-WR-CALNAME:ABRH-SP
X-ORIGINAL-URL:https://www.abrhsp.org.br
X-WR-CALDESC:Eventos para ABRH-SP
REFRESH-INTERVAL;VALUE=DURATION:PT1H
X-Robots-Tag:noindex
X-PUBLISHED-TTL:PT1H
BEGIN:VTIMEZONE
TZID:America/Sao_Paulo
BEGIN:STANDARD
TZOFFSETFROM:-0300
TZOFFSETTO:-0300
TZNAME:-03
DTSTART:20230101T000000
END:STANDARD
END:VTIMEZONE
BEGIN:VEVENT
DTSTART;TZID=America/Sao_Paulo:20241108T080000
DTEND;TZID=America/Sao_Paulo:20241108T110000
DTSTAMP:20260421T145150
CREATED:20241104T191349Z
LAST-MODIFIED:20241104T192731Z
UID:44806-1731052800-1731063600@www.abrhsp.org.br
SUMMARY:Encontro com CEO’s sobre o impacto da Cultura nos resultados
DESCRIPTION:Convidamos você\, associado ABRH-SP\, a participar do Encontro com CEO’s sobre o impacto da Cultura nos resultados\, que será realizado no dia 08 de novembro\, das 08h30 às 11h00\, no CIESP Bauru. Este evento gratuito reunirá grandes nomes do setor para discutir como a cultura organizacional pode ser uma poderosa ferramenta para o sucesso dos negócios. Aproveite esta oportunidade para aprender com líderes de destaque e fortalecer seu networking.
URL:https://www.abrhsp.org.br/agenda/encontro-com-ceos-sobre-o-impacto-da-cultura-nos-resultados/
LOCATION:CIESP Bauru\, Rua Joaquim Marquês de Figueiredo\, 7008 Distrito Industrial Domingos Biancardi Bauru\, SP\, Bauru\, SP\, 17034-290\, Brasil
CATEGORIES:Eventos,Regional Centro Oeste
ATTACH;FMTTYPE=image/png:https://www.abrhsp.org.br/wp-content/uploads/2024/11/sympla.png
ORGANIZER;CN="ABRH-SP Regional Centro Oeste":MAILTO:rco@abrhsp.org.br
END:VEVENT
END:VCALENDAR