BEGIN:VCALENDAR
VERSION:2.0
PRODID:-//ABRH-SP - ECPv6.15.20//NONSGML v1.0//EN
CALSCALE:GREGORIAN
METHOD:PUBLISH
X-WR-CALNAME:ABRH-SP
X-ORIGINAL-URL:https://www.abrhsp.org.br
X-WR-CALDESC:Eventos para ABRH-SP
REFRESH-INTERVAL;VALUE=DURATION:PT1H
X-Robots-Tag:noindex
X-PUBLISHED-TTL:PT1H
BEGIN:VTIMEZONE
TZID:America/Sao_Paulo
BEGIN:STANDARD
TZOFFSETFROM:-0300
TZOFFSETTO:-0300
TZNAME:-03
DTSTART:20240101T000000
END:STANDARD
END:VTIMEZONE
BEGIN:VEVENT
DTSTART;TZID=America/Sao_Paulo:20250321T083000
DTEND;TZID=America/Sao_Paulo:20250321T120000
DTSTAMP:20260421T073508
CREATED:20250307T150450Z
LAST-MODIFIED:20250307T190540Z
UID:46282-1742545800-1742558400@www.abrhsp.org.br
SUMMARY:[Evento Exclusivo] Café PJ Premium - Flexibilidade com estratégia e a construção de cenários para novos modelos de trabalho: O caso Fundação Lemann
DESCRIPTION:O modelo de trabalho ideal não é único\, mas aquele que equilibra cultura organizacional\, objetivos estratégicos e as necessidades das pessoas. Nesta conversa\, Sylvia Hartmann e Aline Okada demonstrarão como um estudo detalhado pode ajudar empresas a estruturar seus modelos de trabalho com lucidez e confiança\, aproveitando os benefícios do remoto e do presencial. A partir do caso da Fundação Lemann — que analisou diferentes cenários e trade-offs para sua política de flexibilidade — veremos na prática como um diagnóstico estruturado pode transformar desafios em oportunidades\, fortalecendo o futuro do trabalho nas organizações. \nPúblico-alvo: Associados PJ Premium da ABRH-SP\, para participar entre em contato com seu key account.
URL:https://www.abrhsp.org.br/agenda/exclusivo-cafe-pj-premium-flexibilidade-com-estrategia-e-a-construcao-de-cenarios-para-novos-modelos-de-trabalho-o-caso-fundacao-lemann/
LOCATION:São Paulo
CATEGORIES:ABRH-SP,Eventos
ATTACH;FMTTYPE=image/png:https://www.abrhsp.org.br/wp-content/uploads/2025/03/capa-cafe-1.png
END:VEVENT
BEGIN:VEVENT
DTSTART;TZID=America/Sao_Paulo:20250322T080000
DTEND;TZID=America/Sao_Paulo:20250322T180000
DTSTAMP:20260421T073508
CREATED:20250310T192410Z
LAST-MODIFIED:20250311T200819Z
UID:46372-1742630400-1742666400@www.abrhsp.org.br
SUMMARY:1º Fórum de Saúde Mental Corporativa (Evento Híbrido) – Apoio ABRH-SP Regional Centro Oeste
DESCRIPTION:1º Fórum de Saúde Mental Corporativa (Evento Híbrido)\nNo dia 22 de março\, das 8h às 18h\, a Moovefy sediará o 1º Fórum de Saúde Mental Corporativa. Organizado pela Mariana Dias Desenvolvimento com apoio da ABRH-SP\, o fórum reunirá especialistas para debater saúde mental no trabalho e a implantação da nova Lei 14.831 e todos os impactos no ambiente corporativo \n🎤 Palestrantes confirmados:\n✅ Mariana Dias de Souza – Lei 14.831 e impactos nas empresas\n✅ Patrícia Levorato – Cultura organizacional e transformação\n✅ Guilherme de Andrade Ussuna – Inovação e bem-estar no trabalho\n✅ Rafael Sanchez – Desenvolvimento de líderes e qualidade de vida\n✅ Fábio Meira – Finanças e saúde mental (palestrante internacional)\n✅ Case Moovefy – Felicidade é sim uma escolha – CEO Armando e seu time de gestão de pessoas apresentam como atuam com a Saúde Mental e Emocional como aliadas dos seus negócios. \n📍 Local: Prime Square – Avenida Getúlio Vargas\, 22-25 – Andar -1 – Moovefy\n🕗 Horário: 08h às 18h \n🎟️ Inscrições: https://forms.gle/DvPbmEJSF7JECZno9 \n📣 Associados ABRH SP: Utilize o cupom MARI100 e adquira seu ingresso 100% gratuito para participar de forma “online” \nMais informações: 14 99633 0422
URL:https://www.abrhsp.org.br/agenda/forum-de-saude-mental-apoio-abrh/
LOCATION:Prime Square\, Av. Getúlio Vargas\, 22-25 - Jardim Europa\, Bauru - SP\,\, Bauru\, São Paulo\, 17017-383\, Brazil
CATEGORIES:Eventos,Regional Centro Oeste
ATTACH;FMTTYPE=image/png:https://www.abrhsp.org.br/wp-content/uploads/2025/03/banner-apoio.png
ORGANIZER;CN="ABRH-SP Regional Centro Oeste":MAILTO:rco@abrhsp.org.br
END:VEVENT
BEGIN:VEVENT
DTSTART;TZID=America/Sao_Paulo:20250326T090000
DTEND;TZID=America/Sao_Paulo:20250326T110000
DTSTAMP:20260421T073508
CREATED:20250313T150152Z
LAST-MODIFIED:20250313T150152Z
UID:46457-1742979600-1742986800@www.abrhsp.org.br
SUMMARY:[Apoio ABRH-SP]  Webinar | Lançamento do Panorama da Experiência da Pessoa Colaboradora 2025
DESCRIPTION:Está chegando a 5a Edição do maior estudo de Employee Experience do Brasil! \nA jornada de cuidado com a experiência das pessoas colaboradoras de uma\nempresa exige total alinhamento com as tendências\, desafios e fatores que as\nimpactam no dia a dia! \nNo dia 26 de março\, das 9h às 11h\, a Pin People irá realizar o Lançamento do\nPanorama da Experiência da Pessoa Colaboradora 2025\, um evento totalmente\nonline e gratuito para que você possa ter\, em primeira mão\, acesso aos insights\ne resultados da pesquisa! \nNão perca tempo! Marque a data na agenda e cadastre-se pelo link para fazer\nparte desse dia!\nhttps://bit.ly/PanoramaEX2025_apoio
URL:https://www.abrhsp.org.br/agenda/apoio-abrh-sp-webinar-lancamento-do-panorama-da-experiencia-da-pessoa-colaboradora-2025/
LOCATION:São Paulo
CATEGORIES:ABRH-SP,Eventos,Eventos Especiais,Webinar
END:VEVENT
BEGIN:VEVENT
DTSTART;TZID=America/Sao_Paulo:20250326T183000
DTEND;TZID=America/Sao_Paulo:20250326T210000
DTSTAMP:20260421T073508
CREATED:20250307T150932Z
LAST-MODIFIED:20250307T161449Z
UID:46287-1743013800-1743022800@www.abrhsp.org.br
SUMMARY:Nova NR1: Saúde Mental no Trabalho – Desafios e Oportunidades
DESCRIPTION:Saúde Mental no Trabalho: Desafios e Oportunidades \nA Nova NR-1 reforça a importância da saúde mental no ambiente corporativo. Como as empresas podem se adaptar e promover o bem-estar dos colaboradores? \nParticipe deste evento essencial e aprofunde-se nos impactos da regulamentação\, boas práticas e estratégias para um ambiente de trabalho mais saudável. \nData: 26 de marçoLocal: BeCooper By CooperJohnson (Rua Emílio Marelo\, 54 Jardim das Industrias – São José dos Campos\, SP) \nInscrições gratuitas
URL:https://www.abrhsp.org.br/agenda/nova-nr1-saude-mental-no-trabalho-desafios-e-oportunidades/
LOCATION:BeCooper By CooperJohnson\, Rua Emílio Marelo\, 54 Jardim das Industrias São José dos Campos\, SP\, São José dos Campos\, SP\, São Paulo\, 12241-200\, Brazil
CATEGORIES:Eventos,Regional Vale do Paraiba
ATTACH;FMTTYPE=image/png:https://www.abrhsp.org.br/wp-content/uploads/2025/03/sympla.png
END:VEVENT
BEGIN:VEVENT
DTSTART;TZID=America/Sao_Paulo:20250327T190000
DTEND;TZID=America/Sao_Paulo:20250327T200000
DTSTAMP:20260421T073508
CREATED:20250307T151210Z
LAST-MODIFIED:20250317T135030Z
UID:46291-1743102000-1743105600@www.abrhsp.org.br
SUMMARY:Webinar: Obesidade\, Sono e Sedentarismo – O Impacto na Produtividade e Bem-Estar Corporativo
DESCRIPTION:Participe do nosso webinar sobre “Obesidade\, Sono e Sedentarismo – O Impacto na Produtividade e Bem-Estar Corporativo” e descubra como eles afetam diretamente a produtividade e o bem-estar no ambiente corporativo. Teremos como convidada a Dra. Sabrina Rosa Lemes\, aprenda com uma especialista sobre como esses fatores podem ser controlados para melhorar a saúde e o desempenho no trabalho \nInscrições gratuitas!
URL:https://www.abrhsp.org.br/agenda/em-breve-webinar-de-saude-sono-obesidade-e-sedentarismo/
LOCATION:Youtube – @abrhsp1\, https://www.youtube.com/c/abrhsp1/featured\, Brasil
CATEGORIES:ABRH-SP,Eventos,Webinar
ATTACH;FMTTYPE=image/png:https://www.abrhsp.org.br/wp-content/uploads/2025/03/miniatura-youtube.png
END:VEVENT
END:VCALENDAR