BEGIN:VCALENDAR
VERSION:2.0
PRODID:-//ABRH-SP - ECPv6.15.20//NONSGML v1.0//EN
CALSCALE:GREGORIAN
METHOD:PUBLISH
X-ORIGINAL-URL:https://www.abrhsp.org.br
X-WR-CALDESC:Eventos para ABRH-SP
REFRESH-INTERVAL;VALUE=DURATION:PT1H
X-Robots-Tag:noindex
X-PUBLISHED-TTL:PT1H
BEGIN:VTIMEZONE
TZID:America/Sao_Paulo
BEGIN:STANDARD
TZOFFSETFROM:-0300
TZOFFSETTO:-0300
TZNAME:-03
DTSTART:20240101T000000
END:STANDARD
END:VTIMEZONE
BEGIN:VEVENT
DTSTART;TZID=America/Sao_Paulo:20250402T080000
DTEND;TZID=America/Sao_Paulo:20250402T170000
DTSTAMP:20260421T060858
CREATED:20250402T204332Z
LAST-MODIFIED:20250402T204332Z
UID:46974-1743580800-1743613200@www.abrhsp.org.br
SUMMARY:A NR-01 e os Fatores de Risco Psicossociais Relacionados ao Trabalho (Portaria MTE 1.419/24)
DESCRIPTION:Convite Especial da ABRH-SP Regional Noroeste Paulista para o evento sobre “NR-01 e Fatores de Risco Psicossociais no Ambiente de Trabalho” \nA NR-01\,  traz novas diretrizes sobre os fatores de risco psicossociais no trabalho. E é sobre isso que vamos conversar! \nVenha participar de um evento imperdível\, que contará com uma palestra especial com Rodrigo Vaz\, especialista em engenharia de segurança do trabalho\, e uma roda de conversa enriquecedora com cinco profissionais convidados: Dra Ana Paula Figueiredo Nogueira (Advogada na Unimed)\, Dra Gabrielle Vecchi Marques  (Advogada GMPA e Diretora Jurídica  ABRH-SP Regional Noroeste Paulista)\, Karen Pereira Araujo Mello (Psicóloga na Unimed)\, Dr Marcos Zamoner (Médico do Trabalho na SW) e Dra Talita Andrade (Médica Psiquiatra na Unimed)\, que trarão uma visão multidisciplinar sobre os desafios e soluções no gerenciamento desses riscos.
URL:https://www.abrhsp.org.br/agenda/a-nr-01-e-os-fatores-de-risco-psicossociais-relacionados-ao-trabalho-portaria-mte-1-419-24/
LOCATION:Hospital Unimed\, Rua Antônio Moisés Saadi\, 1155 Parque Industrial Lagoinha\, Ribeirão Preto\, São Paulo\, Brazil
CATEGORIES:Eventos,Regional Noroeste Paulista
ATTACH;FMTTYPE=image/png:https://www.abrhsp.org.br/wp-content/uploads/2025/04/sympla.png
ORGANIZER;CN="ABRH-SP Regional Noroeste Paulista":MAILTO:rnp@abrhsp.org.br
END:VEVENT
BEGIN:VEVENT
DTSTART;TZID=America/Sao_Paulo:20250423T083000
DTEND;TZID=America/Sao_Paulo:20250423T100000
DTSTAMP:20260421T060858
CREATED:20250331T205933Z
LAST-MODIFIED:20250331T211228Z
UID:46931-1745397000-1745402400@www.abrhsp.org.br
SUMMARY:Webinar: Entendendo a NR01 e seus Impactos na Saúde Mental no Trabalho
DESCRIPTION:Participe do nosso webinar sobre “Entendendo a NR01 e seus Impactos na Saúde Mental no Trabalho” – A NR01 estabelece as disposições gerais sobre segurança e saúde no ambiente de trabalho\, sendo fundamental para a prevenção de acidentes e doenças ocupacionais. Neste evento\, vamos explorar como a NR01 vai além da segurança física e também aborda questões cruciais para a saúde mental dos trabalhadores. Discutiremos como a implementação adequada dessa norma pode contribuir para ambientes de trabalho mais saudáveis\, reduzir o estresse e promover o bem-estar\, favorecendo tanto a produtividade quanto a qualidade de vida dos colaboradores. Junte-se a nós para compreender a importância dessa regulamentação no cenário atual e seu impacto direto no cotidiano profissional. \nConvidados:  \n\nEduardo Marcatto: Especialista ABNT para Sistema de Gestão em Ergonomia\nDr. Holmes: Médico Psiquiatra. Mestre pela Escola Nacional de Saúde Pública – FioCruz\, Coordenador do Núcleo de Estudos em Medicina Diagnóstica e Pericial\, com mais de 10.000 exames realizados.\nPatrícia Pousa: Membro do Comitê do Trabalho da ABRH-SP\nPaulo Dias de Campos: Engenheiro de Segurança no Trabalho\, Especialização em Saúde Pública e Promoção da Saúde pela USP\, CEO do Centro Brasileiro de Segurança e Saúde Industrial\n\nInscrições gratuitas!
URL:https://www.abrhsp.org.br/agenda/webinar-entendendo-a-nr01-e-seus-impactos-na-saude-mental-no-trabalho/
LOCATION:Youtube – @abrhsp1\, https://www.youtube.com/c/abrhsp1/featured\, Brasil
CATEGORIES:ABRH-SP,Eventos,Webinar
ATTACH;FMTTYPE=image/png:https://www.abrhsp.org.br/wp-content/uploads/2025/03/sympla-7.png
END:VEVENT
END:VCALENDAR