BEGIN:VCALENDAR
VERSION:2.0
PRODID:-//ABRH-SP - ECPv6.15.20//NONSGML v1.0//EN
CALSCALE:GREGORIAN
METHOD:PUBLISH
X-WR-CALNAME:ABRH-SP
X-ORIGINAL-URL:https://www.abrhsp.org.br
X-WR-CALDESC:Eventos para ABRH-SP
REFRESH-INTERVAL;VALUE=DURATION:PT1H
X-Robots-Tag:noindex
X-PUBLISHED-TTL:PT1H
BEGIN:VTIMEZONE
TZID:America/Sao_Paulo
BEGIN:STANDARD
TZOFFSETFROM:-0300
TZOFFSETTO:-0300
TZNAME:-03
DTSTART:20240101T000000
END:STANDARD
END:VTIMEZONE
BEGIN:VEVENT
DTSTART;TZID=America/Sao_Paulo:20250410T080000
DTEND;TZID=America/Sao_Paulo:20250410T120000
DTSTAMP:20260421T190112
CREATED:20250307T151658Z
LAST-MODIFIED:20250331T180034Z
UID:46297-1744272000-1744286400@www.abrhsp.org.br
SUMMARY:CHRO Exchange - Alice
DESCRIPTION:No dia 10.04 (quinta-feira)\, das 8h30 às 12h00\, a ABRH-SP terá a 8ª edição do CHRO Exchange na sede da Alice.\n\nPara o esse encontro de Abril\, o time da Alice nos receberá para trocarmos ideias e experiências com Sarita Vollnhofer (CHRO Alice)\, sobre O Papel do RH e da Alta Gestão na Saúde do Time. \nEvento exclusivo  \n  \n 
URL:https://www.abrhsp.org.br/agenda/em-breve-chro-exchange-alice/
CATEGORIES:ABRH-SP,Eventos Especiais,FÓRUM
ATTACH;FMTTYPE=image/png:https://www.abrhsp.org.br/wp-content/uploads/2025/03/sym-site.png
END:VEVENT
END:VCALENDAR