BEGIN:VCALENDAR
VERSION:2.0
PRODID:-//ABRH-SP - ECPv6.15.20//NONSGML v1.0//EN
CALSCALE:GREGORIAN
METHOD:PUBLISH
X-WR-CALNAME:ABRH-SP
X-ORIGINAL-URL:https://www.abrhsp.org.br
X-WR-CALDESC:Eventos para ABRH-SP
REFRESH-INTERVAL;VALUE=DURATION:PT1H
X-Robots-Tag:noindex
X-PUBLISHED-TTL:PT1H
BEGIN:VTIMEZONE
TZID:America/Sao_Paulo
BEGIN:STANDARD
TZOFFSETFROM:-0300
TZOFFSETTO:-0300
TZNAME:-03
DTSTART:20230101T000000
END:STANDARD
END:VTIMEZONE
BEGIN:VEVENT
DTSTART;TZID=America/Sao_Paulo:20241101T080000
DTEND;TZID=America/Sao_Paulo:20241101T103000
DTSTAMP:20260421T201617
CREATED:20240626T115034Z
LAST-MODIFIED:20240626T115034Z
UID:42717-1730448000-1730457000@www.abrhsp.org.br
SUMMARY:Visita Técnica - Regional Metropolitana Oeste
DESCRIPTION:Em breve mais informações.
URL:https://www.abrhsp.org.br/agenda/visita-tecnica-regional-metropolitana-oeste/
LOCATION:A Definir\, Brasil
CATEGORIES:Regional Metropolitana Oeste,VISITA TÉCNICA
ORGANIZER;CN="ABRH-SP Regional Metropolitana Oeste":MAILTO:rmo@abrhsp.org.br
END:VEVENT
END:VCALENDAR