BEGIN:VCALENDAR
VERSION:2.0
PRODID:-//ABRH-SP - ECPv6.15.20//NONSGML v1.0//EN
CALSCALE:GREGORIAN
METHOD:PUBLISH
X-ORIGINAL-URL:https://www.abrhsp.org.br
X-WR-CALDESC:Eventos para ABRH-SP
REFRESH-INTERVAL;VALUE=DURATION:PT1H
X-Robots-Tag:noindex
X-PUBLISHED-TTL:PT1H
BEGIN:VTIMEZONE
TZID:America/Sao_Paulo
BEGIN:STANDARD
TZOFFSETFROM:-0300
TZOFFSETTO:-0300
TZNAME:-03
DTSTART:20240101T000000
END:STANDARD
END:VTIMEZONE
BEGIN:VEVENT
DTSTART;TZID=America/Sao_Paulo:20250530T093000
DTEND;TZID=America/Sao_Paulo:20250530T120000
DTSTAMP:20260421T083130
CREATED:20250506T155737Z
LAST-MODIFIED:20250506T155737Z
UID:47171-1748597400-1748606400@www.abrhsp.org.br
SUMMARY:Saúde Mental no Trabalho: Da NR01 à Neurociência Aplicada
DESCRIPTION:Saúde Mental no Trabalho: Da NR01 à Neurociência Aplicada \n30 de maio de 2025 – 09h30 às 12h00\n\nTema Central:\n“Transformando o cuidado com a saúde mental no trabalho: da conformidade com a NR01 à inovação com neurociência\, psicometria e dados reais”\n \nProgramação\n\n09h30 – 10h00 | Coffee Break & Networking\n10h00 – 10h10 | Abertura Oficial do Evento\n10h10 – 10h25 | Palestra: Agente NR01 Psicossocial Com Sérgio Amad – CEO da Fiter e Professor\n10h25 – 11h05 | Painel 1: Cases de Impacto em Saúde Mental nas Organizações com Carol (CHRO da Alelo)\, Brenda (CHRO da Embracon) e Vanessa (CHRO da Livelo)\, mediado por Roberta (Diretora ABRH-SP)\n11h05 – 11h45 | Painel 2: Case Itaú – Uma Jornada Estratégica em Saúde Mental\n11h45 – 12h00 | Encerramento do Evento
URL:https://www.abrhsp.org.br/agenda/saude-mental-no-trabalho-da-nr01-a-neurociencia-aplicada/
LOCATION:Embracon\, Alameda Europa\, 150 Centro Empresarial Tamboré Santana de Parnaíba\, SP\, Santana de Parnaíba\, SP\, 06543-325\, Brasil
CATEGORIES:Regional Metropolitana Oeste
ATTACH;FMTTYPE=image/png:https://www.abrhsp.org.br/wp-content/uploads/2025/05/copia-de-banner-sympla-1.png
ORGANIZER;CN="ABRH-SP Regional Metropolitana Oeste":MAILTO:rmo@abrhsp.org.br
END:VEVENT
END:VCALENDAR