BEGIN:VCALENDAR
VERSION:2.0
PRODID:-//ABRH-SP - ECPv6.15.20//NONSGML v1.0//EN
CALSCALE:GREGORIAN
METHOD:PUBLISH
X-ORIGINAL-URL:https://www.abrhsp.org.br
X-WR-CALDESC:Eventos para ABRH-SP
REFRESH-INTERVAL;VALUE=DURATION:PT1H
X-Robots-Tag:noindex
X-PUBLISHED-TTL:PT1H
BEGIN:VTIMEZONE
TZID:America/Sao_Paulo
BEGIN:STANDARD
TZOFFSETFROM:-0300
TZOFFSETTO:-0300
TZNAME:-03
DTSTART:20250101T000000
END:STANDARD
END:VTIMEZONE
BEGIN:VEVENT
DTSTART;TZID=America/Sao_Paulo:20260512T193000
DTEND;TZID=America/Sao_Paulo:20260512T210000
DTSTAMP:20260421T055624
CREATED:20260417T191914Z
LAST-MODIFIED:20260417T191915Z
UID:50219-1778614200-1778619600@www.abrhsp.org.br
SUMMARY:RH em Debate 50+: Da universidade para o mundo corporativo
DESCRIPTION:Encontro aberto para Associados e não-associados da ABRH-SP – Gratuito \nA ABRH-SP Regional Sorocaba convida você para mais uma edição do RH em Debate 50+\, um encontro que promove reflexões atuais e troca de experiências entre profissionais de Recursos Humanos e lideranças da região. \nCom o tema “Da universidade para o mundo corporativo: como preparar quem já nasceu conectado para um mercado em transição?”\, esta edição traz à pauta os desafios e oportunidades relacionados à Geração Z\, às soft skills e ao futuro do trabalho. Em um cenário de constantes transformações\, o debate propõe uma análise sobre como ensino e organizações podem atuar de forma conjunta para desenvolver profissionais mais preparados\, adaptáveis e alinhados às novas demandas do mercado. \nO encontro contará com a participação de especialistas que vivenciam essa realidade na prática: Paulo R. Teixeira Jr.\, da USCS (Universidade Municipal de São Caetano do Sul)\, Antonio Carlos Gomes\, da FACENS (Faculdade de Engenharia de Sorocaba)\, e Nicole Graniso\, da Schaeffler. A mediação ficará por conta das coordenadoras Renata de Gaspari e Nágila Leandro\, que conduzirão a conversa com foco em insights aplicáveis e troca de experiências. \nMais do que um debate\, o evento se propõe a ser um espaço de conexão entre academia e mercado\, estimulando reflexões estratégicas sobre o desenvolvimento de talentos e o papel do RH na construção do futuro do trabalho.Venha participar dessa conversa necessária e transformadora.
URL:https://www.abrhsp.org.br/agenda/rh-em-debate-50-da-universidade-para-o-mundo-corporativo/
LOCATION:Via Zoom
CATEGORIES:Regional Sorocaba
ATTACH;FMTTYPE=image/png:https://www.abrhsp.org.br/wp-content/uploads/2026/04/banner-4.png
ORGANIZER;CN="ABRH-SP Regional Sorocaba":MAILTO:regionalsorocaba@abrhsp.org.br
END:VEVENT
END:VCALENDAR