BEGIN:VCALENDAR
VERSION:2.0
PRODID:-//ABRH-SP - ECPv6.15.20//NONSGML v1.0//EN
CALSCALE:GREGORIAN
METHOD:PUBLISH
X-WR-CALNAME:ABRH-SP
X-ORIGINAL-URL:https://www.abrhsp.org.br
X-WR-CALDESC:Eventos para ABRH-SP
REFRESH-INTERVAL;VALUE=DURATION:PT1H
X-Robots-Tag:noindex
X-PUBLISHED-TTL:PT1H
BEGIN:VTIMEZONE
TZID:America/Sao_Paulo
BEGIN:STANDARD
TZOFFSETFROM:-0300
TZOFFSETTO:-0300
TZNAME:-03
DTSTART:20250101T000000
END:STANDARD
END:VTIMEZONE
BEGIN:VEVENT
DTSTART;TZID=America/Sao_Paulo:20260430T100000
DTEND;TZID=America/Sao_Paulo:20260430T123000
DTSTAMP:20260422T034220
CREATED:20260417T184901Z
LAST-MODIFIED:20260421T173502Z
UID:50220-1777543200-1777552200@www.abrhsp.org.br
SUMMARY:Visita Técnica: HEINEKEN – Inside the Star
DESCRIPTION:Inscrições Gratuitas – Vagas Limitadas \nUma oportunidade única de conhecer de perto a cultura\, processos e práticas de uma das maiores empresas do mundo — e ainda ampliar seu networking! \nNesta Visita Técnica\, você vai mergulhar no que faz da HEINEKEN Brasil uma das maiores referências do setor\, com muito networking e troca de conhecimento real. \nInstruções para visita: \n\nChegue com 15 minutos de antecedência\nLeve um documento com foto\nVestimenta: No local é proibida a entrada de pessoas usando sapatos de salto\, calçados abertos como chinelos ou sandália\, vestidos\, saias\, shorts ou bermuda.
URL:https://www.abrhsp.org.br/agenda/visita-tecnica-heineken-inside-the-star/
CATEGORIES:Regional Vale do Paraiba,VISITA TÉCNICA
ATTACH;FMTTYPE=image/png:https://www.abrhsp.org.br/wp-content/uploads/2026/04/sympla.png
END:VEVENT
END:VCALENDAR